Workbook

Sheet FOMCTaylor93UR
B1: Effective federal funds rate, lagged 1-quarter | C1: Choice for natural real interest rate | D1: Choice for inflation target | E1: Choice for resource gap | F1: Choice for inflation measure | L1: Date of last update | N1: 46324
B2: FedFundsRateLag1 | C2: RstarFOMCMedian | D2: TwoPercent | E2: U3gapFOMC | F2: CorePCEInflation | H2: FOMCTaylor93UR: pi=Core PCE,piTarget=2%,Rstar=FOMC Median,Gap=FOMC U3 gap,Smoothing=0,Gap weight=0.5 | I2: Actual Fed Funds Rate | L2: Choice for natural real interest rate (Tab "InterestRateMeasures") | S2: Choice for resource gap (Tab "GapMeasures")
A3: 20135 | B3: =VLOOKUP($A3,FedFundsRates!$A$2:$MM$3000,MATCH(B$2,FedFundsRates!$A$2:$MM$2,0),FALSE) -> #N/A | C3: =VLOOKUP($A3,NaturalRateMeasures!$A$2:$MK$3000,MATCH(C$2,NaturalRateMeasures!$A$2:$MK$2,0),FALSE) -> #N/A | D3: =VLOOKUP($A3,InflationTargetMeasures!$A$2:$MM$3000,MATCH(D$2,InflationTargetMeasures!$A$2:$MM$2,0),FALSE) -> 2 | E3: =VLOOKUP($A3,GapMeasures!$A$2:$LA$3000,MATCH(E$2,GapMeasures!$A$2:$LA$2,0),FALSE) -> #N/A | F3: =VLOOKUP($A3,InflationMeasures!$A$2:$LN$3000,MATCH(F$2,InflationMeasures!$A$2:$LN$2,0),FALSE) -> #N/A | G3: 20135 | H3: =$L$29*B3 + (1-$L$29)*(C3+D3+1.5*(F3-D3)+$L$31*E3) -> #N/A | I3: =VLOOKUP($A3,FedFundsRates!$A$2:$MM$3000,MATCH("FedFundsRate",FedFundsRates!$A$2:$MM$2,0),FALSE) -> 1.3433333 | L3: Variable Name | M3: Description | S3: Variable Name | T3: Description
A4: 20224 | B4: =VLOOKUP($A4,FedFundsRates!$A$2:$MM$3000,MATCH(B$2,FedFundsRates!$A$2:$MM$2,0),FALSE) -> 1.3433333 | C4: =VLOOKUP($A4,NaturalRateMeasures!$A$2:$MK$3000,MATCH(C$2,NaturalRateMeasures!$A$2:$MK$2,0),FALSE) -> #N/A | D4: =VLOOKUP($A4,InflationTargetMeasures!$A$2:$MM$3000,MATCH(D$2,InflationTargetMeasures!$A$2:$MM$2,0),FALSE) -> 2 | E4: =VLOOKUP($A4,GapMeasures!$A$2:$LA$3000,MATCH(E$2,GapMeasures!$A$2:$LA$2,0),FALSE) -> #N/A | F4: =VLOOKUP($A4,InflationMeasures!$A$2:$LN$3000,MATCH(F$2,InflationMeasures!$A$2:$LN$2,0),FALSE) -> #N/A | G4: 20224 | H4: =$L$29*B4 + (1-$L$29)*(C4+D4+1.5*(F4-D4)+$L$31*E4) -> #N/A | I4: =VLOOKUP($A4,FedFundsRates!$A$2:$MM$3000,MATCH("FedFundsRate",FedFundsRates!$A$2:$MM$2,0),FALSE) -> 1.5 | L4: TwoPercent | M4: 2 percent | S4: CBOGDPgap | T4: Real GDP gap, CBO
A5: 20316 | B5: =VLOOKUP($A5,FedFundsRates!$A$2:$MM$3000,MATCH(B$2,FedFundsRates!$A$2:$MM$2,0),FALSE) -> 1.5 | C5: =VLOOKUP($A5,NaturalRateMeasures!$A$2:$MK$3000,MATCH(C$2,NaturalRateMeasures!$A$2:$MK$2,0),FALSE) -> #N/A | D5: =VLOOKUP($A5,InflationTargetMeasures!$A$2:$MM$3000,MATCH(D$2,InflationTargetMeasures!$A$2:$MM$2,0),FALSE) -> 2 | E5: =VLOOKUP($A5,GapMeasures!$A$2:$LA$3000,MATCH(E$2,GapMeasures!$A$2:$LA$2,0),FALSE) -> #N/A | F5: =VLOOKUP($A5,InflationMeasures!$A$2:$LN$3000,MATCH(F$2,InflationMeasures!$A$2:$LN$2,0),FALSE) -> #N/A | G5: 20316 | H5: =$L$29*B5 + (1-$L$29)*(C5+D5+1.5*(F5-D5)+$L$31*E5) -> #N/A | I5: =VLOOKUP($A5,FedFundsRates!$A$2:$MM$3000,MATCH("FedFundsRate",FedFundsRates!$A$2:$MM$2,0),FALSE) -> 1.94 | L5: RstarFOMCCentTend | M5: Implied rate derived from FOMC SEP Central Tendency | S5: BoardModelGDPgap | T5: Real GDP gap, BOG model, 2-sided estimate
A6: 20408 | B6: =VLOOKUP($A6,FedFundsRates!$A$2:$MM$3000,MATCH(B$2,FedFundsRates!$A$2:$MM$2,0),FALSE) -> 1.94 | C6: =VLOOKUP($A6,NaturalRateMeasures!$A$2:$MK$3000,MATCH(C$2,NaturalRateMeasures!$A$2:$MK$2,0),FALSE) -> #N/A | D6: =VLOOKUP($A6,InflationTargetMeasures!$A$2:$MM$3000,MATCH(D$2,InflationTargetMeasures!$A$2:$MM$2,0),FALSE) -> 2 | E6: =VLOOKUP($A6,GapMeasures!$A$2:$LA$3000,MATCH(E$2,GapMeasures!$A$2:$LA$2,0),FALSE) -> #N/A | F6: =VLOOKUP($A6,InflationMeasures!$A$2:$LN$3000,MATCH(F$2,InflationMeasures!$A$2:$LN$2,0),FALSE) -> #N/A | G6: 20408 | H6: =$L$29*B6 + (1-$L$29)*(C6+D6+1.5*(F6-D6)+$L$31*E6) -> #N/A | I6: =VLOOKUP($A6,FedFundsRates!$A$2:$MM$3000,MATCH("FedFundsRate",FedFundsRates!$A$2:$MM$2,0),FALSE) -> 2.3566667 | L6: RstarFOMCMedian | M6: Implied rate derived from FOMC SEP Median | S6: U3gapSPF | T6: Twice unemployment rate gap, Survey of Professional Forecasters
A7: 20500 | B7: =VLOOKUP($A7,FedFundsRates!$A$2:$MM$3000,MATCH(B$2,FedFundsRates!$A$2:$MM$2,0),FALSE) -> 2.3566667 | C7: =VLOOKUP($A7,NaturalRateMeasures!$A$2:$MK$3000,MATCH(C$2,NaturalRateMeasures!$A$2:$MK$2,0),FALSE) -> #N/A | D7: =VLOOKUP($A7,InflationTargetMeasures!$A$2:$MM$3000,MATCH(D$2,InflationTargetMeasures!$A$2:$MM$2,0),FALSE) -> 2 | E7: =VLOOKUP($A7,GapMeasures!$A$2:$LA$3000,MATCH(E$2,GapMeasures!$A$2:$LA$2,0),FALSE) -> #N/A | F7: =VLOOKUP($A7,InflationMeasures!$A$2:$LN$3000,MATCH(F$2,InflationMeasures!$A$2:$LN$2,0),FALSE) -> #N/A | G7: 20500 | H7: =$L$29*B7 + (1-$L$29)*(C7+D7+1.5*(F7-D7)+$L$31*E7) -> #N/A | I7: =VLOOKUP($A7,FedFundsRates!$A$2:$MM$3000,MATCH("FedFundsRate",FedFundsRates!$A$2:$MM$2,0),FALSE) -> 2.4833333 | L7: LWRstar1side | M7: Laubach-Williams model 1-sided estimate | S7: U3gapFOMC | T7: Twice unemployment rate gap, FOMC SEP
A8: 20590 | B8: =VLOOKUP($A8,FedFundsRates!$A$2:$MM$3000,MATCH(B$2,FedFundsRates!$A$2:$MM$2,0),FALSE) -> 2.4833333 | C8: =VLOOKUP($A8,NaturalRateMeasures!$A$2:$MK$3000,MATCH(C$2,NaturalRateMeasures!$A$2:$MK$2,0),FALSE) -> #N/A | D8: =VLOOKUP($A8,InflationTargetMeasures!$A$2:$MM$3000,MATCH(D$2,InflationTargetMeasures!$A$2:$MM$2,0),FALSE) -> 2 | E8: =VLOOKUP($A8,GapMeasures!$A$2:$LA$3000,MATCH(E$2,GapMeasures!$A$2:$LA$2,0),FALSE) -> #N/A | F8: =VLOOKUP($A8,InflationMeasures!$A$2:$LN$3000,MATCH(F$2,InflationMeasures!$A$2:$LN$2,0),FALSE) -> #N/A | G8: 20590 | H8: =$L$29*B8 + (1-$L$29)*(C8+D8+1.5*(F8-D8)+$L$31*E8) -> #N/A | I8: =VLOOKUP($A8,FedFundsRates!$A$2:$MM$3000,MATCH("FedFundsRate",FedFundsRates!$A$2:$MM$2,0),FALSE) -> 2.6933333 | L8: LWRstar2side | M8: Laubach-Williams model 2-sided estimate | S8: U3gapCBO | T8: Twice unemployment rate gap, CBO
A9: 20682 | B9: =VLOOKUP($A9,FedFundsRates!$A$2:$MM$3000,MATCH(B$2,FedFundsRates!$A$2:$MM$2,0),FALSE) -> 2.6933333 | C9: =VLOOKUP($A9,NaturalRateMeasures!$A$2:$MK$3000,MATCH(C$2,NaturalRateMeasures!$A$2:$MK$2,0),FALSE) -> #N/A | D9: =VLOOKUP($A9,InflationTargetMeasures!$A$2:$MM$3000,MATCH(D$2,InflationTargetMeasures!$A$2:$MM$2,0),FALSE) -> 2 | E9: =VLOOKUP($A9,GapMeasures!$A$2:$LA$3000,MATCH(E$2,GapMeasures!$A$2:$LA$2,0),FALSE) -> #N/A | F9: =VLOOKUP($A9,InflationMeasures!$A$2:$LN$3000,MATCH(F$2,InflationMeasures!$A$2:$LN$2,0),FALSE) -> #N/A | G9: 20682 | H9: =$L$29*B9 + (1-$L$29)*(C9+D9+1.5*(F9-D9)+$L$31*E9) -> #N/A | I9: =VLOOKUP($A9,FedFundsRates!$A$2:$MM$3000,MATCH("FedFundsRate",FedFundsRates!$A$2:$MM$2,0),FALSE) -> 2.81 | L9: RstarLW1sideRT | M9: Laubach-Williams model 1-sided estimate, real-time | S9: U6gapCBO | T9: U6 gap, consistent with CBO natural rate of unemployment
A10: 20774 | B10: =VLOOKUP($A10,FedFundsRates!$A$2:$MM$3000,MATCH(B$2,FedFundsRates!$A$2:$MM$2,0),FALSE) -> 2.81 | C10: =VLOOKUP($A10,NaturalRateMeasures!$A$2:$MK$3000,MATCH(C$2,NaturalRateMeasures!$A$2:$MK$2,0),FALSE) -> #N/A | D10: =VLOOKUP($A10,InflationTargetMeasures!$A$2:$MM$3000,MATCH(D$2,InflationTargetMeasures!$A$2:$MM$2,0),FALSE) -> 2 | E10: =VLOOKUP($A10,GapMeasures!$A$2:$LA$3000,MATCH(E$2,GapMeasures!$A$2:$LA$2,0),FALSE) -> #N/A | F10: =VLOOKUP($A10,InflationMeasures!$A$2:$LN$3000,MATCH(F$2,InflationMeasures!$A$2:$LN$2,0),FALSE) -> #N/A | G10: 20774 | H10: =$L$29*B10 + (1-$L$29)*(C10+D10+1.5*(F10-D10)+$L$31*E10) -> #N/A | I10: =VLOOKUP($A10,FedFundsRates!$A$2:$MM$3000,MATCH("FedFundsRate",FedFundsRates!$A$2:$MM$2,0),FALSE) -> 2.9266667 | L10: RstarHLW1side | M10: Holston-Laubach-Williams model 1-sided estimate | S10: ZPopGapCBO | T10: ZPOP gap, consistent with CBO natural rate of unemployment
A11: 20866 | B11: =VLOOKUP($A11,FedFundsRates!$A$2:$MM$3000,MATCH(B$2,FedFundsRates!$A$2:$MM$2,0),FALSE) -> 2.9266667 | C11: =VLOOKUP($A11,NaturalRateMeasures!$A$2:$MK$3000,MATCH(C$2,NaturalRateMeasures!$A$2:$MK$2,0),FALSE) -> #N/A | D11: =VLOOKUP($A11,InflationTargetMeasures!$A$2:$MM$3000,MATCH(D$2,InflationTargetMeasures!$A$2:$MM$2,0),FALSE) -> 2 | E11: =VLOOKUP($A11,GapMeasures!$A$2:$LA$3000,MATCH(E$2,GapMeasures!$A$2:$LA$2,0),FALSE) -> #N/A | F11: =VLOOKUP($A11,InflationMeasures!$A$2:$LN$3000,MATCH(F$2,InflationMeasures!$A$2:$LN$2,0),FALSE) -> #N/A | G11: 20866 | H11: =$L$29*B11 + (1-$L$29)*(C11+D11+1.5*(F11-D11)+$L$31*E11) -> #N/A | I11: =VLOOKUP($A11,FedFundsRates!$A$2:$MM$3000,MATCH("FedFundsRate",FedFundsRates!$A$2:$MM$2,0),FALSE) -> 2.9333333 | L11: RstarHLW1sideRT | M11: Holston-Laubach-Williams model 1-sided estimate, real-time | S11: U3gapBoardModel | T11: Twice unemployment rate gap, BOG model, 2-sided estimate
A12: 20955 | B12: =VLOOKUP($A12,FedFundsRates!$A$2:$MM$3000,MATCH(B$2,FedFundsRates!$A$2:$MM$2,0),FALSE) -> 2.9333333 | C12: =VLOOKUP($A12,NaturalRateMeasures!$A$2:$MK$3000,MATCH(C$2,NaturalRateMeasures!$A$2:$MK$2,0),FALSE) -> #N/A | D12: =VLOOKUP($A12,InflationTargetMeasures!$A$2:$MM$3000,MATCH(D$2,InflationTargetMeasures!$A$2:$MM$2,0),FALSE) -> 2 | E12: =VLOOKUP($A12,GapMeasures!$A$2:$LA$3000,MATCH(E$2,GapMeasures!$A$2:$LA$2,0),FALSE) -> #N/A | F12: =VLOOKUP($A12,InflationMeasures!$A$2:$LN$3000,MATCH(F$2,InflationMeasures!$A$2:$LN$2,0),FALSE) -> #N/A | G12: 20955 | H12: =$L$29*B12 + (1-$L$29)*(C12+D12+1.5*(F12-D12)+$L$31*E12) -> #N/A | I12: =VLOOKUP($A12,FedFundsRates!$A$2:$MM$3000,MATCH("FedFundsRate",FedFundsRates!$A$2:$MM$2,0),FALSE) -> 3 | L12: RstarLubikMatthes | M12: Lubik-Matthes model | S12: BoardModelGDPgap1side | T12: Real GDP gap, BOG model, 1-sided estimate
A13: 21047 | B13: =VLOOKUP($A13,FedFundsRates!$A$2:$MM$3000,MATCH(B$2,FedFundsRates!$A$2:$MM$2,0),FALSE) -> 3 | C13: =VLOOKUP($A13,NaturalRateMeasures!$A$2:$MK$3000,MATCH(C$2,NaturalRateMeasures!$A$2:$MK$2,0),FALSE) -> #N/A | D13: =VLOOKUP($A13,InflationTargetMeasures!$A$2:$MM$3000,MATCH(D$2,InflationTargetMeasures!$A$2:$MM$2,0),FALSE) -> 2 | E13: =VLOOKUP($A13,GapMeasures!$A$2:$LA$3000,MATCH(E$2,GapMeasures!$A$2:$LA$2,0),FALSE) -> #N/A | F13: =VLOOKUP($A13,InflationMeasures!$A$2:$LN$3000,MATCH(F$2,InflationMeasures!$A$2:$LN$2,0),FALSE) -> #N/A | G13: 21047 | H13: =$L$29*B13 + (1-$L$29)*(C13+D13+1.5*(F13-D13)+$L$31*E13) -> #N/A | I13: =VLOOKUP($A13,FedFundsRates!$A$2:$MM$3000,MATCH("FedFundsRate",FedFundsRates!$A$2:$MM$2,0),FALSE) -> 3.2333333 | S13: U3gapBoardModel1side | T13: Twice unemployment rate gap, BOG model, 1-sided estimate
A14: 21139 | B14: =VLOOKUP($A14,FedFundsRates!$A$2:$MM$3000,MATCH(B$2,FedFundsRates!$A$2:$MM$2,0),FALSE) -> 3.2333333 | C14: =VLOOKUP($A14,NaturalRateMeasures!$A$2:$MK$3000,MATCH(C$2,NaturalRateMeasures!$A$2:$MK$2,0),FALSE) -> #N/A | D14: =VLOOKUP($A14,InflationTargetMeasures!$A$2:$MM$3000,MATCH(D$2,InflationTargetMeasures!$A$2:$MM$2,0),FALSE) -> 2 | E14: =VLOOKUP($A14,GapMeasures!$A$2:$LA$3000,MATCH(E$2,GapMeasures!$A$2:$LA$2,0),FALSE) -> #N/A | F14: =VLOOKUP($A14,InflationMeasures!$A$2:$LN$3000,MATCH(F$2,InflationMeasures!$A$2:$LN$2,0),FALSE) -> #N/A | G14: 21139 | H14: =$L$29*B14 + (1-$L$29)*(C14+D14+1.5*(F14-D14)+$L$31*E14) -> #N/A | I14: =VLOOKUP($A14,FedFundsRates!$A$2:$MM$3000,MATCH("FedFundsRate",FedFundsRates!$A$2:$MM$2,0),FALSE) -> 3.2533333 | S14: CBOGDPgapRTest1 | T14: Real GDP gap, CBO, real-time (1st GDP estimate)
A15: 21231 | B15: =VLOOKUP($A15,FedFundsRates!$A$2:$MM$3000,MATCH(B$2,FedFundsRates!$A$2:$MM$2,0),FALSE) -> 3.2533333 | C15: =VLOOKUP($A15,NaturalRateMeasures!$A$2:$MK$3000,MATCH(C$2,NaturalRateMeasures!$A$2:$MK$2,0),FALSE) -> #N/A | D15: =VLOOKUP($A15,InflationTargetMeasures!$A$2:$MM$3000,MATCH(D$2,InflationTargetMeasures!$A$2:$MM$2,0),FALSE) -> 2 | E15: =VLOOKUP($A15,GapMeasures!$A$2:$LA$3000,MATCH(E$2,GapMeasures!$A$2:$LA$2,0),FALSE) -> #N/A | F15: =VLOOKUP($A15,InflationMeasures!$A$2:$LN$3000,MATCH(F$2,InflationMeasures!$A$2:$LN$2,0),FALSE) -> #N/A | G15: 21231 | H15: =$L$29*B15 + (1-$L$29)*(C15+D15+1.5*(F15-D15)+$L$31*E15) -> #N/A | I15: =VLOOKUP($A15,FedFundsRates!$A$2:$MM$3000,MATCH("FedFundsRate",FedFundsRates!$A$2:$MM$2,0),FALSE) -> 1.8633333 | S15: CBOGDPgapRTest2 | T15: Real GDP gap, CBO, real-time (2nd GDP estimate)
A16: 21320 | B16: =VLOOKUP($A16,FedFundsRates!$A$2:$MM$3000,MATCH(B$2,FedFundsRates!$A$2:$MM$2,0),FALSE) -> 1.8633333 | C16: =VLOOKUP($A16,NaturalRateMeasures!$A$2:$MK$3000,MATCH(C$2,NaturalRateMeasures!$A$2:$MK$2,0),FALSE) -> #N/A | D16: =VLOOKUP($A16,InflationTargetMeasures!$A$2:$MM$3000,MATCH(D$2,InflationTargetMeasures!$A$2:$MM$2,0),FALSE) -> 2 | E16: =VLOOKUP($A16,GapMeasures!$A$2:$LA$3000,MATCH(E$2,GapMeasures!$A$2:$LA$2,0),FALSE) -> #N/A | F16: =VLOOKUP($A16,InflationMeasures!$A$2:$LN$3000,MATCH(F$2,InflationMeasures!$A$2:$LN$2,0),FALSE) -> #N/A | G16: 21320 | H16: =$L$29*B16 + (1-$L$29)*(C16+D16+1.5*(F16-D16)+$L$31*E16) -> #N/A | I16: =VLOOKUP($A16,FedFundsRates!$A$2:$MM$3000,MATCH("FedFundsRate",FedFundsRates!$A$2:$MM$2,0),FALSE) -> 0.94 | L16: Choice for inflation measure (Tab "InflationMeasures") | S16: CBOGDPgapRTest3 | T16: Real GDP gap, CBO, real-time (3rd GDP estimate)
A17: 21412 | B17: =VLOOKUP($A17,FedFundsRates!$A$2:$MM$3000,MATCH(B$2,FedFundsRates!$A$2:$MM$2,0),FALSE) -> 0.94 | C17: =VLOOKUP($A17,NaturalRateMeasures!$A$2:$MK$3000,MATCH(C$2,NaturalRateMeasures!$A$2:$MK$2,0),FALSE) -> #N/A | D17: =VLOOKUP($A17,InflationTargetMeasures!$A$2:$MM$3000,MATCH(D$2,InflationTargetMeasures!$A$2:$MM$2,0),FALSE) -> 2 | E17: =VLOOKUP($A17,GapMeasures!$A$2:$LA$3000,MATCH(E$2,GapMeasures!$A$2:$LA$2,0),FALSE) -> #N/A | F17: =VLOOKUP($A17,InflationMeasures!$A$2:$LN$3000,MATCH(F$2,InflationMeasures!$A$2:$LN$2,0),FALSE) -> #N/A | G17: 21412 | H17: =$L$29*B17 + (1-$L$29)*(C17+D17+1.5*(F17-D17)+$L$31*E17) -> #N/A | I17: =VLOOKUP($A17,FedFundsRates!$A$2:$MM$3000,MATCH("FedFundsRate",FedFundsRates!$A$2:$MM$2,0),FALSE) -> 1.3233333 | L17: Variable Name | M17: Description | S17: U3gapCBORTest1 | T17: Twice unemployment rate gap, real-time (1st unempl. estimate)
A18: 21504 | B18: =VLOOKUP($A18,FedFundsRates!$A$2:$MM$3000,MATCH(B$2,FedFundsRates!$A$2:$MM$2,0),FALSE) -> 1.3233333 | C18: =VLOOKUP($A18,NaturalRateMeasures!$A$2:$MK$3000,MATCH(C$2,NaturalRateMeasures!$A$2:$MK$2,0),FALSE) -> #N/A | D18: =VLOOKUP($A18,InflationTargetMeasures!$A$2:$MM$3000,MATCH(D$2,InflationTargetMeasures!$A$2:$MM$2,0),FALSE) -> 2 | E18: =VLOOKUP($A18,GapMeasures!$A$2:$LA$3000,MATCH(E$2,GapMeasures!$A$2:$LA$2,0),FALSE) -> #N/A | F18: =VLOOKUP($A18,InflationMeasures!$A$2:$LN$3000,MATCH(F$2,InflationMeasures!$A$2:$LN$2,0),FALSE) -> #N/A | G18: 21504 | H18: =$L$29*B18 + (1-$L$29)*(C18+D18+1.5*(F18-D18)+$L$31*E18) -> #N/A | I18: =VLOOKUP($A18,FedFundsRates!$A$2:$MM$3000,MATCH("FedFundsRate",FedFundsRates!$A$2:$MM$2,0),FALSE) -> 2.1633333 | L18: CorePCEInflation | M18: Core PCE inflation, 4-quarter | S18: U3gapCBORTest2 | T18: Twice unemployment rate gap, real-time (2nd unempl. estimate)
A19: 21596 | B19: =VLOOKUP($A19,FedFundsRates!$A$2:$MM$3000,MATCH(B$2,FedFundsRates!$A$2:$MM$2,0),FALSE) -> 2.1633333 | C19: =VLOOKUP($A19,NaturalRateMeasures!$A$2:$MK$3000,MATCH(C$2,NaturalRateMeasures!$A$2:$MK$2,0),FALSE) -> #N/A | D19: =VLOOKUP($A19,InflationTargetMeasures!$A$2:$MM$3000,MATCH(D$2,InflationTargetMeasures!$A$2:$MM$2,0),FALSE) -> 2 | E19: =VLOOKUP($A19,GapMeasures!$A$2:$LA$3000,MATCH(E$2,GapMeasures!$A$2:$LA$2,0),FALSE) -> #N/A | F19: =VLOOKUP($A19,InflationMeasures!$A$2:$LN$3000,MATCH(F$2,InflationMeasures!$A$2:$LN$2,0),FALSE) -> #N/A | G19: 21596 | H19: =$L$29*B19 + (1-$L$29)*(C19+D19+1.5*(F19-D19)+$L$31*E19) -> #N/A | I19: =VLOOKUP($A19,FedFundsRates!$A$2:$MM$3000,MATCH("FedFundsRate",FedFundsRates!$A$2:$MM$2,0),FALSE) -> 2.57 | L19: PCEInflation | M19: PCE inflation, 4-quarter | S19: U3gapCBORTest3 | T19: Twice unemployment rate gap, real-time (3rd unempl. estimate)
A20: 21685 | B20: =VLOOKUP($A20,FedFundsRates!$A$2:$MM$3000,MATCH(B$2,FedFundsRates!$A$2:$MM$2,0),FALSE) -> 2.57 | C20: =VLOOKUP($A20,NaturalRateMeasures!$A$2:$MK$3000,MATCH(C$2,NaturalRateMeasures!$A$2:$MK$2,0),FALSE) -> #N/A | D20: =VLOOKUP($A20,InflationTargetMeasures!$A$2:$MM$3000,MATCH(D$2,InflationTargetMeasures!$A$2:$MM$2,0),FALSE) -> 2 | E20: =VLOOKUP($A20,GapMeasures!$A$2:$LA$3000,MATCH(E$2,GapMeasures!$A$2:$LA$2,0),FALSE) -> #N/A | F20: =VLOOKUP($A20,InflationMeasures!$A$2:$LN$3000,MATCH(F$2,InflationMeasures!$A$2:$LN$2,0),FALSE) -> #N/A | G20: 21685 | H20: =$L$29*B20 + (1-$L$29)*(C20+D20+1.5*(F20-D20)+$L$31*E20) -> #N/A | I20: =VLOOKUP($A20,FedFundsRates!$A$2:$MM$3000,MATCH("FedFundsRate",FedFundsRates!$A$2:$MM$2,0),FALSE) -> 3.0833333 | L20: ExpectedPCEInflation | M20: Survey of Professional Forecasters expected 4-quarter PCE inflation | S20: U3gapCBORTest4 | T20: Twice unemployment rate gap, real-time (4th unempl. estimate)
A21: 21777 | B21: =VLOOKUP($A21,FedFundsRates!$A$2:$MM$3000,MATCH(B$2,FedFundsRates!$A$2:$MM$2,0),FALSE) -> 3.0833333 | C21: =VLOOKUP($A21,NaturalRateMeasures!$A$2:$MK$3000,MATCH(C$2,NaturalRateMeasures!$A$2:$MK$2,0),FALSE) -> #N/A | D21: =VLOOKUP($A21,InflationTargetMeasures!$A$2:$MM$3000,MATCH(D$2,InflationTargetMeasures!$A$2:$MM$2,0),FALSE) -> 2 | E21: =VLOOKUP($A21,GapMeasures!$A$2:$LA$3000,MATCH(E$2,GapMeasures!$A$2:$LA$2,0),FALSE) -> #N/A | F21: =VLOOKUP($A21,InflationMeasures!$A$2:$LN$3000,MATCH(F$2,InflationMeasures!$A$2:$LN$2,0),FALSE) -> #N/A | G21: 21777 | H21: =$L$29*B21 + (1-$L$29)*(C21+D21+1.5*(F21-D21)+$L$31*E21) -> #N/A | I21: =VLOOKUP($A21,FedFundsRates!$A$2:$MM$3000,MATCH("FedFundsRate",FedFundsRates!$A$2:$MM$2,0),FALSE) -> 3.5766667 | L21: CorePCEInflationRTest1 | M21: Core PCE inflation, 4-quarter, real-time (1st estimate) | S21: EPopGapCBO | T21: Twice employment-population ratio gap, CBO
A22: 21869 | B22: =VLOOKUP($A22,FedFundsRates!$A$2:$MM$3000,MATCH(B$2,FedFundsRates!$A$2:$MM$2,0),FALSE) -> 3.5766667 | C22: =VLOOKUP($A22,NaturalRateMeasures!$A$2:$MK$3000,MATCH(C$2,NaturalRateMeasures!$A$2:$MK$2,0),FALSE) -> #N/A | D22: =VLOOKUP($A22,InflationTargetMeasures!$A$2:$MM$3000,MATCH(D$2,InflationTargetMeasures!$A$2:$MM$2,0),FALSE) -> 2 | E22: =VLOOKUP($A22,GapMeasures!$A$2:$LA$3000,MATCH(E$2,GapMeasures!$A$2:$LA$2,0),FALSE) -> #N/A | F22: =VLOOKUP($A22,InflationMeasures!$A$2:$LN$3000,MATCH(F$2,InflationMeasures!$A$2:$LN$2,0),FALSE) -> #N/A | G22: 21869 | H22: =$L$29*B22 + (1-$L$29)*(C22+D22+1.5*(F22-D22)+$L$31*E22) -> #N/A | I22: =VLOOKUP($A22,FedFundsRates!$A$2:$MM$3000,MATCH("FedFundsRate",FedFundsRates!$A$2:$MM$2,0),FALSE) -> 3.99 | L22: CorePCEInflationRTest2 | M22: Core PCE inflation, 4-quarter, real-time (2nd estimate)
A23: 21961 | B23: =VLOOKUP($A23,FedFundsRates!$A$2:$MM$3000,MATCH(B$2,FedFundsRates!$A$2:$MM$2,0),FALSE) -> 3.99 | C23: =VLOOKUP($A23,NaturalRateMeasures!$A$2:$MK$3000,MATCH(C$2,NaturalRateMeasures!$A$2:$MK$2,0),FALSE) -> #N/A | D23: =VLOOKUP($A23,InflationTargetMeasures!$A$2:$MM$3000,MATCH(D$2,InflationTargetMeasures!$A$2:$MM$2,0),FALSE) -> 2 | E23: =VLOOKUP($A23,GapMeasures!$A$2:$LA$3000,MATCH(E$2,GapMeasures!$A$2:$LA$2,0),FALSE) -> #N/A | F23: =VLOOKUP($A23,InflationMeasures!$A$2:$LN$3000,MATCH(F$2,InflationMeasures!$A$2:$LN$2,0),FALSE) -> 2.1076378 | G23: 21961 | H23: =$L$29*B23 + (1-$L$29)*(C23+D23+1.5*(F23-D23)+$L$31*E23) -> #N/A | I23: =VLOOKUP($A23,FedFundsRates!$A$2:$MM$3000,MATCH("FedFundsRate",FedFundsRates!$A$2:$MM$2,0),FALSE) -> 3.9333333 | L23: CorePCEInflationRTest3 | M23: Core PCE inflation, 4-quarter, real-time (3rd estimate) | S23: Choice for inflation target (Tab "InflationTargetMeasures")
A24: 22051 | B24: =VLOOKUP($A24,FedFundsRates!$A$2:$MM$3000,MATCH(B$2,FedFundsRates!$A$2:$MM$2,0),FALSE) -> 3.9333333 | C24: =VLOOKUP($A24,NaturalRateMeasures!$A$2:$MK$3000,MATCH(C$2,NaturalRateMeasures!$A$2:$MK$2,0),FALSE) -> #N/A | D24: =VLOOKUP($A24,InflationTargetMeasures!$A$2:$MM$3000,MATCH(D$2,InflationTargetMeasures!$A$2:$MM$2,0),FALSE) -> 2 | E24: =VLOOKUP($A24,GapMeasures!$A$2:$LA$3000,MATCH(E$2,GapMeasures!$A$2:$LA$2,0),FALSE) -> #N/A | F24: =VLOOKUP($A24,InflationMeasures!$A$2:$LN$3000,MATCH(F$2,InflationMeasures!$A$2:$LN$2,0),FALSE) -> 1.9489678 | G24: 22051 | H24: =$L$29*B24 + (1-$L$29)*(C24+D24+1.5*(F24-D24)+$L$31*E24) -> #N/A | I24: =VLOOKUP($A24,FedFundsRates!$A$2:$MM$3000,MATCH("FedFundsRate",FedFundsRates!$A$2:$MM$2,0),FALSE) -> 3.6966667 | L24: PCEInflationRTest1 | M24: PCE inflation, 4-quarter, real-time (1st estimate) | S24: Variable Name | T24: Description
A25: 22143 | B25: =VLOOKUP($A25,FedFundsRates!$A$2:$MM$3000,MATCH(B$2,FedFundsRates!$A$2:$MM$2,0),FALSE) -> 3.6966667 | C25: =VLOOKUP($A25,NaturalRateMeasures!$A$2:$MK$3000,MATCH(C$2,NaturalRateMeasures!$A$2:$MK$2,0),FALSE) -> #N/A | D25: =VLOOKUP($A25,InflationTargetMeasures!$A$2:$MM$3000,MATCH(D$2,InflationTargetMeasures!$A$2:$MM$2,0),FALSE) -> 2 | E25: =VLOOKUP($A25,GapMeasures!$A$2:$LA$3000,MATCH(E$2,GapMeasures!$A$2:$LA$2,0),FALSE) -> #N/A | F25: =VLOOKUP($A25,InflationMeasures!$A$2:$LN$3000,MATCH(F$2,InflationMeasures!$A$2:$LN$2,0),FALSE) -> 1.6749459 | G25: 22143 | H25: =$L$29*B25 + (1-$L$29)*(C25+D25+1.5*(F25-D25)+$L$31*E25) -> #N/A | I25: =VLOOKUP($A25,FedFundsRates!$A$2:$MM$3000,MATCH("FedFundsRate",FedFundsRates!$A$2:$MM$2,0),FALSE) -> 2.9366667 | L25: PCEInflationRTest2 | M25: PCE inflation, 4-quarter, real-time (2nd estimate) | S25: TwoPercent | T25: 2 percent
A26: 22235 | B26: =VLOOKUP($A26,FedFundsRates!$A$2:$MM$3000,MATCH(B$2,FedFundsRates!$A$2:$MM$2,0),FALSE) -> 2.9366667 | C26: =VLOOKUP($A26,NaturalRateMeasures!$A$2:$MK$3000,MATCH(C$2,NaturalRateMeasures!$A$2:$MK$2,0),FALSE) -> #N/A | D26: =VLOOKUP($A26,InflationTargetMeasures!$A$2:$MM$3000,MATCH(D$2,InflationTargetMeasures!$A$2:$MM$2,0),FALSE) -> 2 | E26: =VLOOKUP($A26,GapMeasures!$A$2:$LA$3000,MATCH(E$2,GapMeasures!$A$2:$LA$2,0),FALSE) -> #N/A | F26: =VLOOKUP($A26,InflationMeasures!$A$2:$LN$3000,MATCH(F$2,InflationMeasures!$A$2:$LN$2,0),FALSE) -> 1.4183499 | G26: 22235 | H26: =$L$29*B26 + (1-$L$29)*(C26+D26+1.5*(F26-D26)+$L$31*E26) -> #N/A | I26: =VLOOKUP($A26,FedFundsRates!$A$2:$MM$3000,MATCH("FedFundsRate",FedFundsRates!$A$2:$MM$2,0),FALSE) -> 2.2966667 | L26: PCEInflationRTest3 | M26: PCE inflation, 4-quarter, real-time (3rd estimate) | S26: PiStarFOMC | T26: Longer-run PCE inflation forecast, FOMC SEP Central Tendency
A27: 22327 | B27: =VLOOKUP($A27,FedFundsRates!$A$2:$MM$3000,MATCH(B$2,FedFundsRates!$A$2:$MM$2,0),FALSE) -> 2.2966667 | C27: =VLOOKUP($A27,NaturalRateMeasures!$A$2:$MK$3000,MATCH(C$2,NaturalRateMeasures!$A$2:$MK$2,0),FALSE) -> #N/A | D27: =VLOOKUP($A27,InflationTargetMeasures!$A$2:$MM$3000,MATCH(D$2,InflationTargetMeasures!$A$2:$MM$2,0),FALSE) -> 2 | E27: =VLOOKUP($A27,GapMeasures!$A$2:$LA$3000,MATCH(E$2,GapMeasures!$A$2:$LA$2,0),FALSE) -> #N/A | F27: =VLOOKUP($A27,InflationMeasures!$A$2:$LN$3000,MATCH(F$2,InflationMeasures!$A$2:$LN$2,0),FALSE) -> 1.2750915 | G27: 22327 | H27: =$L$29*B27 + (1-$L$29)*(C27+D27+1.5*(F27-D27)+$L$31*E27) -> #N/A | I27: =VLOOKUP($A27,FedFundsRates!$A$2:$MM$3000,MATCH("FedFundsRate",FedFundsRates!$A$2:$MM$2,0),FALSE) -> 2.0033333
A28: 22416 | B28: =VLOOKUP($A28,FedFundsRates!$A$2:$MM$3000,MATCH(B$2,FedFundsRates!$A$2:$MM$2,0),FALSE) -> 2.0033333 | C28: =VLOOKUP($A28,NaturalRateMeasures!$A$2:$MK$3000,MATCH(C$2,NaturalRateMeasures!$A$2:$MK$2,0),FALSE) -> #N/A | D28: =VLOOKUP($A28,InflationTargetMeasures!$A$2:$MM$3000,MATCH(D$2,InflationTargetMeasures!$A$2:$MM$2,0),FALSE) -> 2 | E28: =VLOOKUP($A28,GapMeasures!$A$2:$LA$3000,MATCH(E$2,GapMeasures!$A$2:$LA$2,0),FALSE) -> #N/A | F28: =VLOOKUP($A28,InflationMeasures!$A$2:$LN$3000,MATCH(F$2,InflationMeasures!$A$2:$LN$2,0),FALSE) -> 1.2262608 | G28: 22416 | H28: =$L$29*B28 + (1-$L$29)*(C28+D28+1.5*(F28-D28)+$L$31*E28) -> #N/A | I28: =VLOOKUP($A28,FedFundsRates!$A$2:$MM$3000,MATCH("FedFundsRate",FedFundsRates!$A$2:$MM$2,0),FALSE) -> 1.7333333 | L28: Interest rate smoothing coefficients: Standard choices are 0 and 0.85
A29: 22508 | B29: =VLOOKUP($A29,FedFundsRates!$A$2:$MM$3000,MATCH(B$2,FedFundsRates!$A$2:$MM$2,0),FALSE) -> 1.7333333 | C29: =VLOOKUP($A29,NaturalRateMeasures!$A$2:$MK$3000,MATCH(C$2,NaturalRateMeasures!$A$2:$MK$2,0),FALSE) -> #N/A | D29: =VLOOKUP($A29,InflationTargetMeasures!$A$2:$MM$3000,MATCH(D$2,InflationTargetMeasures!$A$2:$MM$2,0),FALSE) -> 2 | E29: =VLOOKUP($A29,GapMeasures!$A$2:$LA$3000,MATCH(E$2,GapMeasures!$A$2:$LA$2,0),FALSE) -> #N/A | F29: =VLOOKUP($A29,InflationMeasures!$A$2:$LN$3000,MATCH(F$2,InflationMeasures!$A$2:$LN$2,0),FALSE) -> 1.2652678 | G29: 22508 | H29: =$L$29*B29 + (1-$L$29)*(C29+D29+1.5*(F29-D29)+$L$31*E29) -> #N/A | I29: =VLOOKUP($A29,FedFundsRates!$A$2:$MM$3000,MATCH("FedFundsRate",FedFundsRates!$A$2:$MM$2,0),FALSE) -> 1.6833333 | L29: 0 | R29: Taylor rule prescription | S29: Actual effective federal funds rate, quarterly average
A30: 22600 | B30: =VLOOKUP($A30,FedFundsRates!$A$2:$MM$3000,MATCH(B$2,FedFundsRates!$A$2:$MM$2,0),FALSE) -> 1.6833333 | C30: =VLOOKUP($A30,NaturalRateMeasures!$A$2:$MK$3000,MATCH(C$2,NaturalRateMeasures!$A$2:$MK$2,0),FALSE) -> #N/A | D30: =VLOOKUP($A30,InflationTargetMeasures!$A$2:$MM$3000,MATCH(D$2,InflationTargetMeasures!$A$2:$MM$2,0),FALSE) -> 2 | E30: =VLOOKUP($A30,GapMeasures!$A$2:$LA$3000,MATCH(E$2,GapMeasures!$A$2:$LA$2,0),FALSE) -> #N/A | F30: =VLOOKUP($A30,InflationMeasures!$A$2:$LN$3000,MATCH(F$2,InflationMeasures!$A$2:$LN$2,0),FALSE) -> 1.1799963 | G30: 22600 | H30: =$L$29*B30 + (1-$L$29)*(C30+D30+1.5*(F30-D30)+$L$31*E30) -> #N/A | I30: =VLOOKUP($A30,FedFundsRates!$A$2:$MM$3000,MATCH("FedFundsRate",FedFundsRates!$A$2:$MM$2,0),FALSE) -> 2.4 | L30: Weight on resource gap: Standard choices are 0.5 and 1 | Q30: 46249 | R30: =VLOOKUP(Q30,$G$2:$I$2470,2,FALSE) -> 4.7793739 | S30: =VLOOKUP(Q30,$G$2:$I$2470,3,FALSE) -> 3.67
A31: 22692 | B31: =VLOOKUP($A31,FedFundsRates!$A$2:$MM$3000,MATCH(B$2,FedFundsRates!$A$2:$MM$2,0),FALSE) -> 2.4 | C31: =VLOOKUP($A31,NaturalRateMeasures!$A$2:$MK$3000,MATCH(C$2,NaturalRateMeasures!$A$2:$MK$2,0),FALSE) -> #N/A | D31: =VLOOKUP($A31,InflationTargetMeasures!$A$2:$MM$3000,MATCH(D$2,InflationTargetMeasures!$A$2:$MM$2,0),FALSE) -> 2 | E31: =VLOOKUP($A31,GapMeasures!$A$2:$LA$3000,MATCH(E$2,GapMeasures!$A$2:$LA$2,0),FALSE) -> #N/A | F31: =VLOOKUP($A31,InflationMeasures!$A$2:$LN$3000,MATCH(F$2,InflationMeasures!$A$2:$LN$2,0),FALSE) -> 1.3836948 | G31: 22692 | H31: =$L$29*B31 + (1-$L$29)*(C31+D31+1.5*(F31-D31)+$L$31*E31) -> #N/A | I31: =VLOOKUP($A31,FedFundsRates!$A$2:$MM$3000,MATCH("FedFundsRate",FedFundsRates!$A$2:$MM$2,0),FALSE) -> 2.4566667 | L31: 0.5 | Q31: 46341 | R31: =VLOOKUP(Q31,$G$2:$I$2470,2,FALSE) -> 5.1031214 | S31: =VLOOKUP(Q31,$G$2:$I$2470,3,FALSE) -> #N/A
A32: 22781 | B32: =VLOOKUP($A32,FedFundsRates!$A$2:$MM$3000,MATCH(B$2,FedFundsRates!$A$2:$MM$2,0),FALSE) -> 2.4566667 | C32: =VLOOKUP($A32,NaturalRateMeasures!$A$2:$MK$3000,MATCH(C$2,NaturalRateMeasures!$A$2:$MK$2,0),FALSE) -> #N/A | D32: =VLOOKUP($A32,InflationTargetMeasures!$A$2:$MM$3000,MATCH(D$2,InflationTargetMeasures!$A$2:$MM$2,0),FALSE) -> 2 | E32: =VLOOKUP($A32,GapMeasures!$A$2:$LA$3000,MATCH(E$2,GapMeasures!$A$2:$LA$2,0),FALSE) -> #N/A | F32: =VLOOKUP($A32,InflationMeasures!$A$2:$LN$3000,MATCH(F$2,InflationMeasures!$A$2:$LN$2,0),FALSE) -> 1.43505 | G32: 22781 | H32: =$L$29*B32 + (1-$L$29)*(C32+D32+1.5*(F32-D32)+$L$31*E32) -> #N/A | I32: =VLOOKUP($A32,FedFundsRates!$A$2:$MM$3000,MATCH("FedFundsRate",FedFundsRates!$A$2:$MM$2,0),FALSE) -> 2.6066667 | L32: .
A33: 22873 | B33: =VLOOKUP($A33,FedFundsRates!$A$2:$MM$3000,MATCH(B$2,FedFundsRates!$A$2:$MM$2,0),FALSE) -> 2.6066667 | C33: =VLOOKUP($A33,NaturalRateMeasures!$A$2:$MK$3000,MATCH(C$2,NaturalRateMeasures!$A$2:$MK$2,0),FALSE) -> #N/A | D33: =VLOOKUP($A33,InflationTargetMeasures!$A$2:$MM$3000,MATCH(D$2,InflationTargetMeasures!$A$2:$MM$2,0),FALSE) -> 2 | E33: =VLOOKUP($A33,GapMeasures!$A$2:$LA$3000,MATCH(E$2,GapMeasures!$A$2:$LA$2,0),FALSE) -> #N/A | F33: =VLOOKUP($A33,InflationMeasures!$A$2:$LN$3000,MATCH(F$2,InflationMeasures!$A$2:$LN$2,0),FALSE) -> 1.3298695 | G33: 22873 | H33: =$L$29*B33 + (1-$L$29)*(C33+D33+1.5*(F33-D33)+$L$31*E33) -> #N/A | I33: =VLOOKUP($A33,FedFundsRates!$A$2:$MM$3000,MATCH("FedFundsRate",FedFundsRates!$A$2:$MM$2,0),FALSE) -> 2.8466667
A34: 22965 | B34: =VLOOKUP($A34,FedFundsRates!$A$2:$MM$3000,MATCH(B$2,FedFundsRates!$A$2:$MM$2,0),FALSE) -> 2.8466667 | C34: =VLOOKUP($A34,NaturalRateMeasures!$A$2:$MK$3000,MATCH(C$2,NaturalRateMeasures!$A$2:$MK$2,0),FALSE) -> #N/A | D34: =VLOOKUP($A34,InflationTargetMeasures!$A$2:$MM$3000,MATCH(D$2,InflationTargetMeasures!$A$2:$MM$2,0),FALSE) -> 2 | E34: =VLOOKUP($A34,GapMeasures!$A$2:$LA$3000,MATCH(E$2,GapMeasures!$A$2:$LA$2,0),FALSE) -> #N/A | F34: =VLOOKUP($A34,InflationMeasures!$A$2:$LN$3000,MATCH(F$2,InflationMeasures!$A$2:$LN$2,0),FALSE) -> 1.2773047 | G34: 22965 | H34: =$L$29*B34 + (1-$L$29)*(C34+D34+1.5*(F34-D34)+$L$31*E34) -> #N/A | I34: =VLOOKUP($A34,FedFundsRates!$A$2:$MM$3000,MATCH("FedFundsRate",FedFundsRates!$A$2:$MM$2,0),FALSE) -> 2.9233333
A35: 23057 | B35: =VLOOKUP($A35,FedFundsRates!$A$2:$MM$3000,MATCH(B$2,FedFundsRates!$A$2:$MM$2,0),FALSE) -> 2.9233333 | C35: =VLOOKUP($A35,NaturalRateMeasures!$A$2:$MK$3000,MATCH(C$2,NaturalRateMeasures!$A$2:$MK$2,0),FALSE) -> #N/A | D35: =VLOOKUP($A35,InflationTargetMeasures!$A$2:$MM$3000,MATCH(D$2,InflationTargetMeasures!$A$2:$MM$2,0),FALSE) -> 2 | E35: =VLOOKUP($A35,GapMeasures!$A$2:$LA$3000,MATCH(E$2,GapMeasures!$A$2:$LA$2,0),FALSE) -> #N/A | F35: =VLOOKUP($A35,InflationMeasures!$A$2:$LN$3000,MATCH(F$2,InflationMeasures!$A$2:$LN$2,0),FALSE) -> 1.2357064 | G35: 23057 | H35: =$L$29*B35 + (1-$L$29)*(C35+D35+1.5*(F35-D35)+$L$31*E35) -> #N/A | I35: =VLOOKUP($A35,FedFundsRates!$A$2:$MM$3000,MATCH("FedFundsRate",FedFundsRates!$A$2:$MM$2,0),FALSE) -> 2.9666667
A36: 23146 | B36: =VLOOKUP($A36,FedFundsRates!$A$2:$MM$3000,MATCH(B$2,FedFundsRates!$A$2:$MM$2,0),FALSE) -> 2.9666667 | C36: =VLOOKUP($A36,NaturalRateMeasures!$A$2:$MK$3000,MATCH(C$2,NaturalRateMeasures!$A$2:$MK$2,0),FALSE) -> #N/A | D36: =VLOOKUP($A36,InflationTargetMeasures!$A$2:$MM$3000,MATCH(D$2,InflationTargetMeasures!$A$2:$MM$2,0),FALSE) -> 2 | E36: =VLOOKUP($A36,GapMeasures!$A$2:$LA$3000,MATCH(E$2,GapMeasures!$A$2:$LA$2,0),FALSE) -> #N/A | F36: =VLOOKUP($A36,InflationMeasures!$A$2:$LN$3000,MATCH(F$2,InflationMeasures!$A$2:$LN$2,0),FALSE) -> 1.2310142 | G36: 23146 | H36: =$L$29*B36 + (1-$L$29)*(C36+D36+1.5*(F36-D36)+$L$31*E36) -> #N/A | I36: =VLOOKUP($A36,FedFundsRates!$A$2:$MM$3000,MATCH("FedFundsRate",FedFundsRates!$A$2:$MM$2,0),FALSE) -> 2.9633333
A37: 23238 | B37: =VLOOKUP($A37,FedFundsRates!$A$2:$MM$3000,MATCH(B$2,FedFundsRates!$A$2:$MM$2,0),FALSE) -> 2.9633333 | C37: =VLOOKUP($A37,NaturalRateMeasures!$A$2:$MK$3000,MATCH(C$2,NaturalRateMeasures!$A$2:$MK$2,0),FALSE) -> #N/A | D37: =VLOOKUP($A37,InflationTargetMeasures!$A$2:$MM$3000,MATCH(D$2,InflationTargetMeasures!$A$2:$MM$2,0),FALSE) -> 2 | E37: =VLOOKUP($A37,GapMeasures!$A$2:$LA$3000,MATCH(E$2,GapMeasures!$A$2:$LA$2,0),FALSE) -> #N/A | F37: =VLOOKUP($A37,InflationMeasures!$A$2:$LN$3000,MATCH(F$2,InflationMeasures!$A$2:$LN$2,0),FALSE) -> 1.287999 | G37: 23238 | H37: =$L$29*B37 + (1-$L$29)*(C37+D37+1.5*(F37-D37)+$L$31*E37) -> #N/A | I37: =VLOOKUP($A37,FedFundsRates!$A$2:$MM$3000,MATCH("FedFundsRate",FedFundsRates!$A$2:$MM$2,0),FALSE) -> 3.33
A38: 23330 | B38: =VLOOKUP($A38,FedFundsRates!$A$2:$MM$3000,MATCH(B$2,FedFundsRates!$A$2:$MM$2,0),FALSE) -> 3.33 | C38: =VLOOKUP($A38,NaturalRateMeasures!$A$2:$MK$3000,MATCH(C$2,NaturalRateMeasures!$A$2:$MK$2,0),FALSE) -> #N/A | D38: =VLOOKUP($A38,InflationTargetMeasures!$A$2:$MM$3000,MATCH(D$2,InflationTargetMeasures!$A$2:$MM$2,0),FALSE) -> 2 | E38: =VLOOKUP($A38,GapMeasures!$A$2:$LA$3000,MATCH(E$2,GapMeasures!$A$2:$LA$2,0),FALSE) -> #N/A | F38: =VLOOKUP($A38,InflationMeasures!$A$2:$LN$3000,MATCH(F$2,InflationMeasures!$A$2:$LN$2,0),FALSE) -> 1.5841102 | G38: 23330 | H38: =$L$29*B38 + (1-$L$29)*(C38+D38+1.5*(F38-D38)+$L$31*E38) -> #N/A | I38: =VLOOKUP($A38,FedFundsRates!$A$2:$MM$3000,MATCH("FedFundsRate",FedFundsRates!$A$2:$MM$2,0),FALSE) -> 3.4533333
A39: 23422 | B39: =VLOOKUP($A39,FedFundsRates!$A$2:$MM$3000,MATCH(B$2,FedFundsRates!$A$2:$MM$2,0),FALSE) -> 3.4533333 | C39: =VLOOKUP($A39,NaturalRateMeasures!$A$2:$MK$3000,MATCH(C$2,NaturalRateMeasures!$A$2:$MK$2,0),FALSE) -> #N/A | D39: =VLOOKUP($A39,InflationTargetMeasures!$A$2:$MM$3000,MATCH(D$2,InflationTargetMeasures!$A$2:$MM$2,0),FALSE) -> 2 | E39: =VLOOKUP($A39,GapMeasures!$A$2:$LA$3000,MATCH(E$2,GapMeasures!$A$2:$LA$2,0),FALSE) -> #N/A | F39: =VLOOKUP($A39,InflationMeasures!$A$2:$LN$3000,MATCH(F$2,InflationMeasures!$A$2:$LN$2,0),FALSE) -> 1.6821522 | G39: 23422 | H39: =$L$29*B39 + (1-$L$29)*(C39+D39+1.5*(F39-D39)+$L$31*E39) -> #N/A | I39: =VLOOKUP($A39,FedFundsRates!$A$2:$MM$3000,MATCH("FedFundsRate",FedFundsRates!$A$2:$MM$2,0),FALSE) -> 3.4633333
A40: 23512 | B40: =VLOOKUP($A40,FedFundsRates!$A$2:$MM$3000,MATCH(B$2,FedFundsRates!$A$2:$MM$2,0),FALSE) -> 3.4633333 | C40: =VLOOKUP($A40,NaturalRateMeasures!$A$2:$MK$3000,MATCH(C$2,NaturalRateMeasures!$A$2:$MK$2,0),FALSE) -> #N/A | D40: =VLOOKUP($A40,InflationTargetMeasures!$A$2:$MM$3000,MATCH(D$2,InflationTargetMeasures!$A$2:$MM$2,0),FALSE) -> 2 | E40: =VLOOKUP($A40,GapMeasures!$A$2:$LA$3000,MATCH(E$2,GapMeasures!$A$2:$LA$2,0),FALSE) -> #N/A | F40: =VLOOKUP($A40,InflationMeasures!$A$2:$LN$3000,MATCH(F$2,InflationMeasures!$A$2:$LN$2,0),FALSE) -> 1.6032428 | G40: 23512 | H40: =$L$29*B40 + (1-$L$29)*(C40+D40+1.5*(F40-D40)+$L$31*E40) -> #N/A | I40: =VLOOKUP($A40,FedFundsRates!$A$2:$MM$3000,MATCH("FedFundsRate",FedFundsRates!$A$2:$MM$2,0),FALSE) -> 3.49
...

Sheet FOMCTaylor99UR
B1: Effective federal funds rate, lagged 1-quarter | C1: Choice for natural real interest rate | D1: Choice for inflation target | E1: Choice for resource gap | F1: Choice for inflation measure | L1: Date of last update | N1: =FOMCTaylor93UR!N1 -> 46324
B2: FedFundsRateLag1 | C2: RstarFOMCMedian | D2: TwoPercent | E2: U3gapFOMC | F2: CorePCEInflation | H2: FOMCTaylor99UR: pi=Core PCE,piTarget=2%,Rstar=FOMC Median,Gap=FOMC U3 gap,Smoothing=0,Gap weight=1.0 | I2: Actual Fed Funds Rate | L2: Choice for natural real interest rate (Tab "InterestRateMeasures") | S2: Choice for resource gap (Tab "GapMeasures")
A3: 20135 | B3: =VLOOKUP($A3,FedFundsRates!$A$2:$MM$3000,MATCH(B$2,FedFundsRates!$A$2:$MM$2,0),FALSE) -> #N/A | C3: =VLOOKUP($A3,NaturalRateMeasures!$A$2:$MK$3000,MATCH(C$2,NaturalRateMeasures!$A$2:$MK$2,0),FALSE) -> #N/A | D3: =VLOOKUP($A3,InflationTargetMeasures!$A$2:$MM$3000,MATCH(D$2,InflationTargetMeasures!$A$2:$MM$2,0),FALSE) -> 2 | E3: =VLOOKUP($A3,GapMeasures!$A$2:$LA$3000,MATCH(E$2,GapMeasures!$A$2:$LA$2,0),FALSE) -> #N/A | F3: =VLOOKUP($A3,InflationMeasures!$A$2:$LN$3000,MATCH(F$2,InflationMeasures!$A$2:$LN$2,0),FALSE) -> #N/A | G3: 20135 | H3: =$L$29*B3 + (1-$L$29)*(C3+D3+1.5*(F3-D3)+$L$31*E3) -> #N/A | I3: =VLOOKUP($A3,FedFundsRates!$A$2:$MM$3000,MATCH("FedFundsRate",FedFundsRates!$A$2:$MM$2,0),FALSE) -> 1.3433333 | L3: Variable Name | M3: Description | S3: Variable Name | T3: Description
A4: 20224 | B4: =VLOOKUP($A4,FedFundsRates!$A$2:$MM$3000,MATCH(B$2,FedFundsRates!$A$2:$MM$2,0),FALSE) -> 1.3433333 | C4: =VLOOKUP($A4,NaturalRateMeasures!$A$2:$MK$3000,MATCH(C$2,NaturalRateMeasures!$A$2:$MK$2,0),FALSE) -> #N/A | D4: =VLOOKUP($A4,InflationTargetMeasures!$A$2:$MM$3000,MATCH(D$2,InflationTargetMeasures!$A$2:$MM$2,0),FALSE) -> 2 | E4: =VLOOKUP($A4,GapMeasures!$A$2:$LA$3000,MATCH(E$2,GapMeasures!$A$2:$LA$2,0),FALSE) -> #N/A | F4: =VLOOKUP($A4,InflationMeasures!$A$2:$LN$3000,MATCH(F$2,InflationMeasures!$A$2:$LN$2,0),FALSE) -> #N/A | G4: 20224 | H4: =$L$29*B4 + (1-$L$29)*(C4+D4+1.5*(F4-D4)+$L$31*E4) -> #N/A | I4: =VLOOKUP($A4,FedFundsRates!$A$2:$MM$3000,MATCH("FedFundsRate",FedFundsRates!$A$2:$MM$2,0),FALSE) -> 1.5 | L4: TwoPercent | M4: 2 percent | S4: CBOGDPgap | T4: Real GDP gap, CBO
A5: 20316 | B5: =VLOOKUP($A5,FedFundsRates!$A$2:$MM$3000,MATCH(B$2,FedFundsRates!$A$2:$MM$2,0),FALSE) -> 1.5 | C5: =VLOOKUP($A5,NaturalRateMeasures!$A$2:$MK$3000,MATCH(C$2,NaturalRateMeasures!$A$2:$MK$2,0),FALSE) -> #N/A | D5: =VLOOKUP($A5,InflationTargetMeasures!$A$2:$MM$3000,MATCH(D$2,InflationTargetMeasures!$A$2:$MM$2,0),FALSE) -> 2 | E5: =VLOOKUP($A5,GapMeasures!$A$2:$LA$3000,MATCH(E$2,GapMeasures!$A$2:$LA$2,0),FALSE) -> #N/A | F5: =VLOOKUP($A5,InflationMeasures!$A$2:$LN$3000,MATCH(F$2,InflationMeasures!$A$2:$LN$2,0),FALSE) -> #N/A | G5: 20316 | H5: =$L$29*B5 + (1-$L$29)*(C5+D5+1.5*(F5-D5)+$L$31*E5) -> #N/A | I5: =VLOOKUP($A5,FedFundsRates!$A$2:$MM$3000,MATCH("FedFundsRate",FedFundsRates!$A$2:$MM$2,0),FALSE) -> 1.94 | L5: RstarFOMCCentTend | M5: Implied rate derived from FOMC SEP Central Tendency | S5: BoardModelGDPgap | T5: Real GDP gap, BOG model, 2-sided estimate
A6: 20408 | B6: =VLOOKUP($A6,FedFundsRates!$A$2:$MM$3000,MATCH(B$2,FedFundsRates!$A$2:$MM$2,0),FALSE) -> 1.94 | C6: =VLOOKUP($A6,NaturalRateMeasures!$A$2:$MK$3000,MATCH(C$2,NaturalRateMeasures!$A$2:$MK$2,0),FALSE) -> #N/A | D6: =VLOOKUP($A6,InflationTargetMeasures!$A$2:$MM$3000,MATCH(D$2,InflationTargetMeasures!$A$2:$MM$2,0),FALSE) -> 2 | E6: =VLOOKUP($A6,GapMeasures!$A$2:$LA$3000,MATCH(E$2,GapMeasures!$A$2:$LA$2,0),FALSE) -> #N/A | F6: =VLOOKUP($A6,InflationMeasures!$A$2:$LN$3000,MATCH(F$2,InflationMeasures!$A$2:$LN$2,0),FALSE) -> #N/A | G6: 20408 | H6: =$L$29*B6 + (1-$L$29)*(C6+D6+1.5*(F6-D6)+$L$31*E6) -> #N/A | I6: =VLOOKUP($A6,FedFundsRates!$A$2:$MM$3000,MATCH("FedFundsRate",FedFundsRates!$A$2:$MM$2,0),FALSE) -> 2.3566667 | L6: RstarFOMCMedian | M6: Implied rate derived from FOMC SEP Median | S6: U3gapSPF | T6: Twice unemployment rate gap, Survey of Professional Forecasters
A7: 20500 | B7: =VLOOKUP($A7,FedFundsRates!$A$2:$MM$3000,MATCH(B$2,FedFundsRates!$A$2:$MM$2,0),FALSE) -> 2.3566667 | C7: =VLOOKUP($A7,NaturalRateMeasures!$A$2:$MK$3000,MATCH(C$2,NaturalRateMeasures!$A$2:$MK$2,0),FALSE) -> #N/A | D7: =VLOOKUP($A7,InflationTargetMeasures!$A$2:$MM$3000,MATCH(D$2,InflationTargetMeasures!$A$2:$MM$2,0),FALSE) -> 2 | E7: =VLOOKUP($A7,GapMeasures!$A$2:$LA$3000,MATCH(E$2,GapMeasures!$A$2:$LA$2,0),FALSE) -> #N/A | F7: =VLOOKUP($A7,InflationMeasures!$A$2:$LN$3000,MATCH(F$2,InflationMeasures!$A$2:$LN$2,0),FALSE) -> #N/A | G7: 20500 | H7: =$L$29*B7 + (1-$L$29)*(C7+D7+1.5*(F7-D7)+$L$31*E7) -> #N/A | I7: =VLOOKUP($A7,FedFundsRates!$A$2:$MM$3000,MATCH("FedFundsRate",FedFundsRates!$A$2:$MM$2,0),FALSE) -> 2.4833333 | L7: LWRstar1side | M7: Laubach-Williams model 1-sided estimate | S7: U3gapFOMC | T7: Twice unemployment rate gap, FOMC SEP
A8: 20590 | B8: =VLOOKUP($A8,FedFundsRates!$A$2:$MM$3000,MATCH(B$2,FedFundsRates!$A$2:$MM$2,0),FALSE) -> 2.4833333 | C8: =VLOOKUP($A8,NaturalRateMeasures!$A$2:$MK$3000,MATCH(C$2,NaturalRateMeasures!$A$2:$MK$2,0),FALSE) -> #N/A | D8: =VLOOKUP($A8,InflationTargetMeasures!$A$2:$MM$3000,MATCH(D$2,InflationTargetMeasures!$A$2:$MM$2,0),FALSE) -> 2 | E8: =VLOOKUP($A8,GapMeasures!$A$2:$LA$3000,MATCH(E$2,GapMeasures!$A$2:$LA$2,0),FALSE) -> #N/A | F8: =VLOOKUP($A8,InflationMeasures!$A$2:$LN$3000,MATCH(F$2,InflationMeasures!$A$2:$LN$2,0),FALSE) -> #N/A | G8: 20590 | H8: =$L$29*B8 + (1-$L$29)*(C8+D8+1.5*(F8-D8)+$L$31*E8) -> #N/A | I8: =VLOOKUP($A8,FedFundsRates!$A$2:$MM$3000,MATCH("FedFundsRate",FedFundsRates!$A$2:$MM$2,0),FALSE) -> 2.6933333 | L8: LWRstar2side | M8: Laubach-Williams model 2-sided estimate | S8: U3gapCBO | T8: Twice unemployment rate gap, CBO
A9: 20682 | B9: =VLOOKUP($A9,FedFundsRates!$A$2:$MM$3000,MATCH(B$2,FedFundsRates!$A$2:$MM$2,0),FALSE) -> 2.6933333 | C9: =VLOOKUP($A9,NaturalRateMeasures!$A$2:$MK$3000,MATCH(C$2,NaturalRateMeasures!$A$2:$MK$2,0),FALSE) -> #N/A | D9: =VLOOKUP($A9,InflationTargetMeasures!$A$2:$MM$3000,MATCH(D$2,InflationTargetMeasures!$A$2:$MM$2,0),FALSE) -> 2 | E9: =VLOOKUP($A9,GapMeasures!$A$2:$LA$3000,MATCH(E$2,GapMeasures!$A$2:$LA$2,0),FALSE) -> #N/A | F9: =VLOOKUP($A9,InflationMeasures!$A$2:$LN$3000,MATCH(F$2,InflationMeasures!$A$2:$LN$2,0),FALSE) -> #N/A | G9: 20682 | H9: =$L$29*B9 + (1-$L$29)*(C9+D9+1.5*(F9-D9)+$L$31*E9) -> #N/A | I9: =VLOOKUP($A9,FedFundsRates!$A$2:$MM$3000,MATCH("FedFundsRate",FedFundsRates!$A$2:$MM$2,0),FALSE) -> 2.81 | L9: RstarLW1sideRT | M9: Laubach-Williams model 1-sided estimate, real-time | S9: U6gapCBO | T9: U6 gap, consistent with CBO natural rate of unemployment
A10: 20774 | B10: =VLOOKUP($A10,FedFundsRates!$A$2:$MM$3000,MATCH(B$2,FedFundsRates!$A$2:$MM$2,0),FALSE) -> 2.81 | C10: =VLOOKUP($A10,NaturalRateMeasures!$A$2:$MK$3000,MATCH(C$2,NaturalRateMeasures!$A$2:$MK$2,0),FALSE) -> #N/A | D10: =VLOOKUP($A10,InflationTargetMeasures!$A$2:$MM$3000,MATCH(D$2,InflationTargetMeasures!$A$2:$MM$2,0),FALSE) -> 2 | E10: =VLOOKUP($A10,GapMeasures!$A$2:$LA$3000,MATCH(E$2,GapMeasures!$A$2:$LA$2,0),FALSE) -> #N/A | F10: =VLOOKUP($A10,InflationMeasures!$A$2:$LN$3000,MATCH(F$2,InflationMeasures!$A$2:$LN$2,0),FALSE) -> #N/A | G10: 20774 | H10: =$L$29*B10 + (1-$L$29)*(C10+D10+1.5*(F10-D10)+$L$31*E10) -> #N/A | I10: =VLOOKUP($A10,FedFundsRates!$A$2:$MM$3000,MATCH("FedFundsRate",FedFundsRates!$A$2:$MM$2,0),FALSE) -> 2.9266667 | L10: RstarHLW1side | M10: Holston-Laubach-Williams model 1-sided estimate | S10: ZPopGapCBO | T10: ZPOP gap, consistent with CBO natural rate of unemployment
A11: 20866 | B11: =VLOOKUP($A11,FedFundsRates!$A$2:$MM$3000,MATCH(B$2,FedFundsRates!$A$2:$MM$2,0),FALSE) -> 2.9266667 | C11: =VLOOKUP($A11,NaturalRateMeasures!$A$2:$MK$3000,MATCH(C$2,NaturalRateMeasures!$A$2:$MK$2,0),FALSE) -> #N/A | D11: =VLOOKUP($A11,InflationTargetMeasures!$A$2:$MM$3000,MATCH(D$2,InflationTargetMeasures!$A$2:$MM$2,0),FALSE) -> 2 | E11: =VLOOKUP($A11,GapMeasures!$A$2:$LA$3000,MATCH(E$2,GapMeasures!$A$2:$LA$2,0),FALSE) -> #N/A | F11: =VLOOKUP($A11,InflationMeasures!$A$2:$LN$3000,MATCH(F$2,InflationMeasures!$A$2:$LN$2,0),FALSE) -> #N/A | G11: 20866 | H11: =$L$29*B11 + (1-$L$29)*(C11+D11+1.5*(F11-D11)+$L$31*E11) -> #N/A | I11: =VLOOKUP($A11,FedFundsRates!$A$2:$MM$3000,MATCH("FedFundsRate",FedFundsRates!$A$2:$MM$2,0),FALSE) -> 2.9333333 | L11: RstarHLW1sideRT | M11: Holston-Laubach-Williams model 1-sided estimate, real-time | S11: U3gapBoardModel | T11: Twice unemployment rate gap, BOG model, 2-sided estimate
A12: 20955 | B12: =VLOOKUP($A12,FedFundsRates!$A$2:$MM$3000,MATCH(B$2,FedFundsRates!$A$2:$MM$2,0),FALSE) -> 2.9333333 | C12: =VLOOKUP($A12,NaturalRateMeasures!$A$2:$MK$3000,MATCH(C$2,NaturalRateMeasures!$A$2:$MK$2,0),FALSE) -> #N/A | D12: =VLOOKUP($A12,InflationTargetMeasures!$A$2:$MM$3000,MATCH(D$2,InflationTargetMeasures!$A$2:$MM$2,0),FALSE) -> 2 | E12: =VLOOKUP($A12,GapMeasures!$A$2:$LA$3000,MATCH(E$2,GapMeasures!$A$2:$LA$2,0),FALSE) -> #N/A | F12: =VLOOKUP($A12,InflationMeasures!$A$2:$LN$3000,MATCH(F$2,InflationMeasures!$A$2:$LN$2,0),FALSE) -> #N/A | G12: 20955 | H12: =$L$29*B12 + (1-$L$29)*(C12+D12+1.5*(F12-D12)+$L$31*E12) -> #N/A | I12: =VLOOKUP($A12,FedFundsRates!$A$2:$MM$3000,MATCH("FedFundsRate",FedFundsRates!$A$2:$MM$2,0),FALSE) -> 3 | L12: RstarLubikMatthes | M12: Lubik-Matthes model | S12: BoardModelGDPgap1side | T12: Real GDP gap, BOG model, 1-sided estimate
A13: 21047 | B13: =VLOOKUP($A13,FedFundsRates!$A$2:$MM$3000,MATCH(B$2,FedFundsRates!$A$2:$MM$2,0),FALSE) -> 3 | C13: =VLOOKUP($A13,NaturalRateMeasures!$A$2:$MK$3000,MATCH(C$2,NaturalRateMeasures!$A$2:$MK$2,0),FALSE) -> #N/A | D13: =VLOOKUP($A13,InflationTargetMeasures!$A$2:$MM$3000,MATCH(D$2,InflationTargetMeasures!$A$2:$MM$2,0),FALSE) -> 2 | E13: =VLOOKUP($A13,GapMeasures!$A$2:$LA$3000,MATCH(E$2,GapMeasures!$A$2:$LA$2,0),FALSE) -> #N/A | F13: =VLOOKUP($A13,InflationMeasures!$A$2:$LN$3000,MATCH(F$2,InflationMeasures!$A$2:$LN$2,0),FALSE) -> #N/A | G13: 21047 | H13: =$L$29*B13 + (1-$L$29)*(C13+D13+1.5*(F13-D13)+$L$31*E13) -> #N/A | I13: =VLOOKUP($A13,FedFundsRates!$A$2:$MM$3000,MATCH("FedFundsRate",FedFundsRates!$A$2:$MM$2,0),FALSE) -> 3.2333333 | S13: U3gapBoardModel1side | T13: Twice unemployment rate gap, BOG model, 1-sided estimate
A14: 21139 | B14: =VLOOKUP($A14,FedFundsRates!$A$2:$MM$3000,MATCH(B$2,FedFundsRates!$A$2:$MM$2,0),FALSE) -> 3.2333333 | C14: =VLOOKUP($A14,NaturalRateMeasures!$A$2:$MK$3000,MATCH(C$2,NaturalRateMeasures!$A$2:$MK$2,0),FALSE) -> #N/A | D14: =VLOOKUP($A14,InflationTargetMeasures!$A$2:$MM$3000,MATCH(D$2,InflationTargetMeasures!$A$2:$MM$2,0),FALSE) -> 2 | E14: =VLOOKUP($A14,GapMeasures!$A$2:$LA$3000,MATCH(E$2,GapMeasures!$A$2:$LA$2,0),FALSE) -> #N/A | F14: =VLOOKUP($A14,InflationMeasures!$A$2:$LN$3000,MATCH(F$2,InflationMeasures!$A$2:$LN$2,0),FALSE) -> #N/A | G14: 21139 | H14: =$L$29*B14 + (1-$L$29)*(C14+D14+1.5*(F14-D14)+$L$31*E14) -> #N/A | I14: =VLOOKUP($A14,FedFundsRates!$A$2:$MM$3000,MATCH("FedFundsRate",FedFundsRates!$A$2:$MM$2,0),FALSE) -> 3.2533333 | S14: CBOGDPgapRTest1 | T14: Real GDP gap, CBO, real-time (1st GDP estimate)
A15: 21231 | B15: =VLOOKUP($A15,FedFundsRates!$A$2:$MM$3000,MATCH(B$2,FedFundsRates!$A$2:$MM$2,0),FALSE) -> 3.2533333 | C15: =VLOOKUP($A15,NaturalRateMeasures!$A$2:$MK$3000,MATCH(C$2,NaturalRateMeasures!$A$2:$MK$2,0),FALSE) -> #N/A | D15: =VLOOKUP($A15,InflationTargetMeasures!$A$2:$MM$3000,MATCH(D$2,InflationTargetMeasures!$A$2:$MM$2,0),FALSE) -> 2 | E15: =VLOOKUP($A15,GapMeasures!$A$2:$LA$3000,MATCH(E$2,GapMeasures!$A$2:$LA$2,0),FALSE) -> #N/A | F15: =VLOOKUP($A15,InflationMeasures!$A$2:$LN$3000,MATCH(F$2,InflationMeasures!$A$2:$LN$2,0),FALSE) -> #N/A | G15: 21231 | H15: =$L$29*B15 + (1-$L$29)*(C15+D15+1.5*(F15-D15)+$L$31*E15) -> #N/A | I15: =VLOOKUP($A15,FedFundsRates!$A$2:$MM$3000,MATCH("FedFundsRate",FedFundsRates!$A$2:$MM$2,0),FALSE) -> 1.8633333 | S15: CBOGDPgapRTest2 | T15: Real GDP gap, CBO, real-time (2nd GDP estimate)
A16: 21320 | B16: =VLOOKUP($A16,FedFundsRates!$A$2:$MM$3000,MATCH(B$2,FedFundsRates!$A$2:$MM$2,0),FALSE) -> 1.8633333 | C16: =VLOOKUP($A16,NaturalRateMeasures!$A$2:$MK$3000,MATCH(C$2,NaturalRateMeasures!$A$2:$MK$2,0),FALSE) -> #N/A | D16: =VLOOKUP($A16,InflationTargetMeasures!$A$2:$MM$3000,MATCH(D$2,InflationTargetMeasures!$A$2:$MM$2,0),FALSE) -> 2 | E16: =VLOOKUP($A16,GapMeasures!$A$2:$LA$3000,MATCH(E$2,GapMeasures!$A$2:$LA$2,0),FALSE) -> #N/A | F16: =VLOOKUP($A16,InflationMeasures!$A$2:$LN$3000,MATCH(F$2,InflationMeasures!$A$2:$LN$2,0),FALSE) -> #N/A | G16: 21320 | H16: =$L$29*B16 + (1-$L$29)*(C16+D16+1.5*(F16-D16)+$L$31*E16) -> #N/A | I16: =VLOOKUP($A16,FedFundsRates!$A$2:$MM$3000,MATCH("FedFundsRate",FedFundsRates!$A$2:$MM$2,0),FALSE) -> 0.94 | L16: Choice for inflation measure (Tab "InflationMeasures") | S16: CBOGDPgapRTest3 | T16: Real GDP gap, CBO, real-time (3rd GDP estimate)
A17: 21412 | B17: =VLOOKUP($A17,FedFundsRates!$A$2:$MM$3000,MATCH(B$2,FedFundsRates!$A$2:$MM$2,0),FALSE) -> 0.94 | C17: =VLOOKUP($A17,NaturalRateMeasures!$A$2:$MK$3000,MATCH(C$2,NaturalRateMeasures!$A$2:$MK$2,0),FALSE) -> #N/A | D17: =VLOOKUP($A17,InflationTargetMeasures!$A$2:$MM$3000,MATCH(D$2,InflationTargetMeasures!$A$2:$MM$2,0),FALSE) -> 2 | E17: =VLOOKUP($A17,GapMeasures!$A$2:$LA$3000,MATCH(E$2,GapMeasures!$A$2:$LA$2,0),FALSE) -> #N/A | F17: =VLOOKUP($A17,InflationMeasures!$A$2:$LN$3000,MATCH(F$2,InflationMeasures!$A$2:$LN$2,0),FALSE) -> #N/A | G17: 21412 | H17: =$L$29*B17 + (1-$L$29)*(C17+D17+1.5*(F17-D17)+$L$31*E17) -> #N/A | I17: =VLOOKUP($A17,FedFundsRates!$A$2:$MM$3000,MATCH("FedFundsRate",FedFundsRates!$A$2:$MM$2,0),FALSE) -> 1.3233333 | L17: Variable Name | M17: Description | S17: U3gapCBORTest1 | T17: Twice unemployment rate gap, real-time (1st unempl. estimate)
A18: 21504 | B18: =VLOOKUP($A18,FedFundsRates!$A$2:$MM$3000,MATCH(B$2,FedFundsRates!$A$2:$MM$2,0),FALSE) -> 1.3233333 | C18: =VLOOKUP($A18,NaturalRateMeasures!$A$2:$MK$3000,MATCH(C$2,NaturalRateMeasures!$A$2:$MK$2,0),FALSE) -> #N/A | D18: =VLOOKUP($A18,InflationTargetMeasures!$A$2:$MM$3000,MATCH(D$2,InflationTargetMeasures!$A$2:$MM$2,0),FALSE) -> 2 | E18: =VLOOKUP($A18,GapMeasures!$A$2:$LA$3000,MATCH(E$2,GapMeasures!$A$2:$LA$2,0),FALSE) -> #N/A | F18: =VLOOKUP($A18,InflationMeasures!$A$2:$LN$3000,MATCH(F$2,InflationMeasures!$A$2:$LN$2,0),FALSE) -> #N/A | G18: 21504 | H18: =$L$29*B18 + (1-$L$29)*(C18+D18+1.5*(F18-D18)+$L$31*E18) -> #N/A | I18: =VLOOKUP($A18,FedFundsRates!$A$2:$MM$3000,MATCH("FedFundsRate",FedFundsRates!$A$2:$MM$2,0),FALSE) -> 2.1633333 | L18: CorePCEInflation | M18: Core PCE inflation, 4-quarter | S18: U3gapCBORTest2 | T18: Twice unemployment rate gap, real-time (2nd unempl. estimate)
A19: 21596 | B19: =VLOOKUP($A19,FedFundsRates!$A$2:$MM$3000,MATCH(B$2,FedFundsRates!$A$2:$MM$2,0),FALSE) -> 2.1633333 | C19: =VLOOKUP($A19,NaturalRateMeasures!$A$2:$MK$3000,MATCH(C$2,NaturalRateMeasures!$A$2:$MK$2,0),FALSE) -> #N/A | D19: =VLOOKUP($A19,InflationTargetMeasures!$A$2:$MM$3000,MATCH(D$2,InflationTargetMeasures!$A$2:$MM$2,0),FALSE) -> 2 | E19: =VLOOKUP($A19,GapMeasures!$A$2:$LA$3000,MATCH(E$2,GapMeasures!$A$2:$LA$2,0),FALSE) -> #N/A | F19: =VLOOKUP($A19,InflationMeasures!$A$2:$LN$3000,MATCH(F$2,InflationMeasures!$A$2:$LN$2,0),FALSE) -> #N/A | G19: 21596 | H19: =$L$29*B19 + (1-$L$29)*(C19+D19+1.5*(F19-D19)+$L$31*E19) -> #N/A | I19: =VLOOKUP($A19,FedFundsRates!$A$2:$MM$3000,MATCH("FedFundsRate",FedFundsRates!$A$2:$MM$2,0),FALSE) -> 2.57 | L19: PCEInflation | M19: PCE inflation, 4-quarter | S19: U3gapCBORTest3 | T19: Twice unemployment rate gap, real-time (3rd unempl. estimate)
A20: 21685 | B20: =VLOOKUP($A20,FedFundsRates!$A$2:$MM$3000,MATCH(B$2,FedFundsRates!$A$2:$MM$2,0),FALSE) -> 2.57 | C20: =VLOOKUP($A20,NaturalRateMeasures!$A$2:$MK$3000,MATCH(C$2,NaturalRateMeasures!$A$2:$MK$2,0),FALSE) -> #N/A | D20: =VLOOKUP($A20,InflationTargetMeasures!$A$2:$MM$3000,MATCH(D$2,InflationTargetMeasures!$A$2:$MM$2,0),FALSE) -> 2 | E20: =VLOOKUP($A20,GapMeasures!$A$2:$LA$3000,MATCH(E$2,GapMeasures!$A$2:$LA$2,0),FALSE) -> #N/A | F20: =VLOOKUP($A20,InflationMeasures!$A$2:$LN$3000,MATCH(F$2,InflationMeasures!$A$2:$LN$2,0),FALSE) -> #N/A | G20: 21685 | H20: =$L$29*B20 + (1-$L$29)*(C20+D20+1.5*(F20-D20)+$L$31*E20) -> #N/A | I20: =VLOOKUP($A20,FedFundsRates!$A$2:$MM$3000,MATCH("FedFundsRate",FedFundsRates!$A$2:$MM$2,0),FALSE) -> 3.0833333 | L20: ExpectedPCEInflation | M20: Survey of Professional Forecasters expected 4-quarter PCE inflation | S20: U3gapCBORTest4 | T20: Twice unemployment rate gap, real-time (4th unempl. estimate)
A21: 21777 | B21: =VLOOKUP($A21,FedFundsRates!$A$2:$MM$3000,MATCH(B$2,FedFundsRates!$A$2:$MM$2,0),FALSE) -> 3.0833333 | C21: =VLOOKUP($A21,NaturalRateMeasures!$A$2:$MK$3000,MATCH(C$2,NaturalRateMeasures!$A$2:$MK$2,0),FALSE) -> #N/A | D21: =VLOOKUP($A21,InflationTargetMeasures!$A$2:$MM$3000,MATCH(D$2,InflationTargetMeasures!$A$2:$MM$2,0),FALSE) -> 2 | E21: =VLOOKUP($A21,GapMeasures!$A$2:$LA$3000,MATCH(E$2,GapMeasures!$A$2:$LA$2,0),FALSE) -> #N/A | F21: =VLOOKUP($A21,InflationMeasures!$A$2:$LN$3000,MATCH(F$2,InflationMeasures!$A$2:$LN$2,0),FALSE) -> #N/A | G21: 21777 | H21: =$L$29*B21 + (1-$L$29)*(C21+D21+1.5*(F21-D21)+$L$31*E21) -> #N/A | I21: =VLOOKUP($A21,FedFundsRates!$A$2:$MM$3000,MATCH("FedFundsRate",FedFundsRates!$A$2:$MM$2,0),FALSE) -> 3.5766667 | L21: CorePCEInflationRTest1 | M21: Core PCE inflation, 4-quarter, real-time (1st estimate) | S21: EPopGapCBO | T21: Twice employment-population ratio gap, CBO
A22: 21869 | B22: =VLOOKUP($A22,FedFundsRates!$A$2:$MM$3000,MATCH(B$2,FedFundsRates!$A$2:$MM$2,0),FALSE) -> 3.5766667 | C22: =VLOOKUP($A22,NaturalRateMeasures!$A$2:$MK$3000,MATCH(C$2,NaturalRateMeasures!$A$2:$MK$2,0),FALSE) -> #N/A | D22: =VLOOKUP($A22,InflationTargetMeasures!$A$2:$MM$3000,MATCH(D$2,InflationTargetMeasures!$A$2:$MM$2,0),FALSE) -> 2 | E22: =VLOOKUP($A22,GapMeasures!$A$2:$LA$3000,MATCH(E$2,GapMeasures!$A$2:$LA$2,0),FALSE) -> #N/A | F22: =VLOOKUP($A22,InflationMeasures!$A$2:$LN$3000,MATCH(F$2,InflationMeasures!$A$2:$LN$2,0),FALSE) -> #N/A | G22: 21869 | H22: =$L$29*B22 + (1-$L$29)*(C22+D22+1.5*(F22-D22)+$L$31*E22) -> #N/A | I22: =VLOOKUP($A22,FedFundsRates!$A$2:$MM$3000,MATCH("FedFundsRate",FedFundsRates!$A$2:$MM$2,0),FALSE) -> 3.99 | L22: CorePCEInflationRTest2 | M22: Core PCE inflation, 4-quarter, real-time (2nd estimate)
A23: 21961 | B23: =VLOOKUP($A23,FedFundsRates!$A$2:$MM$3000,MATCH(B$2,FedFundsRates!$A$2:$MM$2,0),FALSE) -> 3.99 | C23: =VLOOKUP($A23,NaturalRateMeasures!$A$2:$MK$3000,MATCH(C$2,NaturalRateMeasures!$A$2:$MK$2,0),FALSE) -> #N/A | D23: =VLOOKUP($A23,InflationTargetMeasures!$A$2:$MM$3000,MATCH(D$2,InflationTargetMeasures!$A$2:$MM$2,0),FALSE) -> 2 | E23: =VLOOKUP($A23,GapMeasures!$A$2:$LA$3000,MATCH(E$2,GapMeasures!$A$2:$LA$2,0),FALSE) -> #N/A | F23: =VLOOKUP($A23,InflationMeasures!$A$2:$LN$3000,MATCH(F$2,InflationMeasures!$A$2:$LN$2,0),FALSE) -> 2.1076378 | G23: 21961 | H23: =$L$29*B23 + (1-$L$29)*(C23+D23+1.5*(F23-D23)+$L$31*E23) -> #N/A | I23: =VLOOKUP($A23,FedFundsRates!$A$2:$MM$3000,MATCH("FedFundsRate",FedFundsRates!$A$2:$MM$2,0),FALSE) -> 3.9333333 | L23: CorePCEInflationRTest3 | M23: Core PCE inflation, 4-quarter, real-time (3rd estimate) | S23: Choice for inflation target (Tab "InflationTargetMeasures")
A24: 22051 | B24: =VLOOKUP($A24,FedFundsRates!$A$2:$MM$3000,MATCH(B$2,FedFundsRates!$A$2:$MM$2,0),FALSE) -> 3.9333333 | C24: =VLOOKUP($A24,NaturalRateMeasures!$A$2:$MK$3000,MATCH(C$2,NaturalRateMeasures!$A$2:$MK$2,0),FALSE) -> #N/A | D24: =VLOOKUP($A24,InflationTargetMeasures!$A$2:$MM$3000,MATCH(D$2,InflationTargetMeasures!$A$2:$MM$2,0),FALSE) -> 2 | E24: =VLOOKUP($A24,GapMeasures!$A$2:$LA$3000,MATCH(E$2,GapMeasures!$A$2:$LA$2,0),FALSE) -> #N/A | F24: =VLOOKUP($A24,InflationMeasures!$A$2:$LN$3000,MATCH(F$2,InflationMeasures!$A$2:$LN$2,0),FALSE) -> 1.9489678 | G24: 22051 | H24: =$L$29*B24 + (1-$L$29)*(C24+D24+1.5*(F24-D24)+$L$31*E24) -> #N/A | I24: =VLOOKUP($A24,FedFundsRates!$A$2:$MM$3000,MATCH("FedFundsRate",FedFundsRates!$A$2:$MM$2,0),FALSE) -> 3.6966667 | L24: PCEInflationRTest1 | M24: PCE inflation, 4-quarter, real-time (1st estimate) | S24: Variable Name | T24: Description
A25: 22143 | B25: =VLOOKUP($A25,FedFundsRates!$A$2:$MM$3000,MATCH(B$2,FedFundsRates!$A$2:$MM$2,0),FALSE) -> 3.6966667 | C25: =VLOOKUP($A25,NaturalRateMeasures!$A$2:$MK$3000,MATCH(C$2,NaturalRateMeasures!$A$2:$MK$2,0),FALSE) -> #N/A | D25: =VLOOKUP($A25,InflationTargetMeasures!$A$2:$MM$3000,MATCH(D$2,InflationTargetMeasures!$A$2:$MM$2,0),FALSE) -> 2 | E25: =VLOOKUP($A25,GapMeasures!$A$2:$LA$3000,MATCH(E$2,GapMeasures!$A$2:$LA$2,0),FALSE) -> #N/A | F25: =VLOOKUP($A25,InflationMeasures!$A$2:$LN$3000,MATCH(F$2,InflationMeasures!$A$2:$LN$2,0),FALSE) -> 1.6749459 | G25: 22143 | H25: =$L$29*B25 + (1-$L$29)*(C25+D25+1.5*(F25-D25)+$L$31*E25) -> #N/A | I25: =VLOOKUP($A25,FedFundsRates!$A$2:$MM$3000,MATCH("FedFundsRate",FedFundsRates!$A$2:$MM$2,0),FALSE) -> 2.9366667 | L25: PCEInflationRTest2 | M25: PCE inflation, 4-quarter, real-time (2nd estimate) | S25: TwoPercent | T25: 2 percent
A26: 22235 | B26: =VLOOKUP($A26,FedFundsRates!$A$2:$MM$3000,MATCH(B$2,FedFundsRates!$A$2:$MM$2,0),FALSE) -> 2.9366667 | C26: =VLOOKUP($A26,NaturalRateMeasures!$A$2:$MK$3000,MATCH(C$2,NaturalRateMeasures!$A$2:$MK$2,0),FALSE) -> #N/A | D26: =VLOOKUP($A26,InflationTargetMeasures!$A$2:$MM$3000,MATCH(D$2,InflationTargetMeasures!$A$2:$MM$2,0),FALSE) -> 2 | E26: =VLOOKUP($A26,GapMeasures!$A$2:$LA$3000,MATCH(E$2,GapMeasures!$A$2:$LA$2,0),FALSE) -> #N/A | F26: =VLOOKUP($A26,InflationMeasures!$A$2:$LN$3000,MATCH(F$2,InflationMeasures!$A$2:$LN$2,0),FALSE) -> 1.4183499 | G26: 22235 | H26: =$L$29*B26 + (1-$L$29)*(C26+D26+1.5*(F26-D26)+$L$31*E26) -> #N/A | I26: =VLOOKUP($A26,FedFundsRates!$A$2:$MM$3000,MATCH("FedFundsRate",FedFundsRates!$A$2:$MM$2,0),FALSE) -> 2.2966667 | L26: PCEInflationRTest3 | M26: PCE inflation, 4-quarter, real-time (3rd estimate) | S26: PiStarFOMC | T26: Longer-run PCE inflation forecast, FOMC SEP Central Tendency
A27: 22327 | B27: =VLOOKUP($A27,FedFundsRates!$A$2:$MM$3000,MATCH(B$2,FedFundsRates!$A$2:$MM$2,0),FALSE) -> 2.2966667 | C27: =VLOOKUP($A27,NaturalRateMeasures!$A$2:$MK$3000,MATCH(C$2,NaturalRateMeasures!$A$2:$MK$2,0),FALSE) -> #N/A | D27: =VLOOKUP($A27,InflationTargetMeasures!$A$2:$MM$3000,MATCH(D$2,InflationTargetMeasures!$A$2:$MM$2,0),FALSE) -> 2 | E27: =VLOOKUP($A27,GapMeasures!$A$2:$LA$3000,MATCH(E$2,GapMeasures!$A$2:$LA$2,0),FALSE) -> #N/A | F27: =VLOOKUP($A27,InflationMeasures!$A$2:$LN$3000,MATCH(F$2,InflationMeasures!$A$2:$LN$2,0),FALSE) -> 1.2750915 | G27: 22327 | H27: =$L$29*B27 + (1-$L$29)*(C27+D27+1.5*(F27-D27)+$L$31*E27) -> #N/A | I27: =VLOOKUP($A27,FedFundsRates!$A$2:$MM$3000,MATCH("FedFundsRate",FedFundsRates!$A$2:$MM$2,0),FALSE) -> 2.0033333
A28: 22416 | B28: =VLOOKUP($A28,FedFundsRates!$A$2:$MM$3000,MATCH(B$2,FedFundsRates!$A$2:$MM$2,0),FALSE) -> 2.0033333 | C28: =VLOOKUP($A28,NaturalRateMeasures!$A$2:$MK$3000,MATCH(C$2,NaturalRateMeasures!$A$2:$MK$2,0),FALSE) -> #N/A | D28: =VLOOKUP($A28,InflationTargetMeasures!$A$2:$MM$3000,MATCH(D$2,InflationTargetMeasures!$A$2:$MM$2,0),FALSE) -> 2 | E28: =VLOOKUP($A28,GapMeasures!$A$2:$LA$3000,MATCH(E$2,GapMeasures!$A$2:$LA$2,0),FALSE) -> #N/A | F28: =VLOOKUP($A28,InflationMeasures!$A$2:$LN$3000,MATCH(F$2,InflationMeasures!$A$2:$LN$2,0),FALSE) -> 1.2262608 | G28: 22416 | H28: =$L$29*B28 + (1-$L$29)*(C28+D28+1.5*(F28-D28)+$L$31*E28) -> #N/A | I28: =VLOOKUP($A28,FedFundsRates!$A$2:$MM$3000,MATCH("FedFundsRate",FedFundsRates!$A$2:$MM$2,0),FALSE) -> 1.7333333 | L28: Interest rate smoothing coefficients: Standard choices are 0 and 0.85
A29: 22508 | B29: =VLOOKUP($A29,FedFundsRates!$A$2:$MM$3000,MATCH(B$2,FedFundsRates!$A$2:$MM$2,0),FALSE) -> 1.7333333 | C29: =VLOOKUP($A29,NaturalRateMeasures!$A$2:$MK$3000,MATCH(C$2,NaturalRateMeasures!$A$2:$MK$2,0),FALSE) -> #N/A | D29: =VLOOKUP($A29,InflationTargetMeasures!$A$2:$MM$3000,MATCH(D$2,InflationTargetMeasures!$A$2:$MM$2,0),FALSE) -> 2 | E29: =VLOOKUP($A29,GapMeasures!$A$2:$LA$3000,MATCH(E$2,GapMeasures!$A$2:$LA$2,0),FALSE) -> #N/A | F29: =VLOOKUP($A29,InflationMeasures!$A$2:$LN$3000,MATCH(F$2,InflationMeasures!$A$2:$LN$2,0),FALSE) -> 1.2652678 | G29: 22508 | H29: =$L$29*B29 + (1-$L$29)*(C29+D29+1.5*(F29-D29)+$L$31*E29) -> #N/A | I29: =VLOOKUP($A29,FedFundsRates!$A$2:$MM$3000,MATCH("FedFundsRate",FedFundsRates!$A$2:$MM$2,0),FALSE) -> 1.6833333 | L29: 0 | R29: Taylor rule prescription | S29: Actual effective federal funds rate, quarterly average
A30: 22600 | B30: =VLOOKUP($A30,FedFundsRates!$A$2:$MM$3000,MATCH(B$2,FedFundsRates!$A$2:$MM$2,0),FALSE) -> 1.6833333 | C30: =VLOOKUP($A30,NaturalRateMeasures!$A$2:$MK$3000,MATCH(C$2,NaturalRateMeasures!$A$2:$MK$2,0),FALSE) -> #N/A | D30: =VLOOKUP($A30,InflationTargetMeasures!$A$2:$MM$3000,MATCH(D$2,InflationTargetMeasures!$A$2:$MM$2,0),FALSE) -> 2 | E30: =VLOOKUP($A30,GapMeasures!$A$2:$LA$3000,MATCH(E$2,GapMeasures!$A$2:$LA$2,0),FALSE) -> #N/A | F30: =VLOOKUP($A30,InflationMeasures!$A$2:$LN$3000,MATCH(F$2,InflationMeasures!$A$2:$LN$2,0),FALSE) -> 1.1799963 | G30: 22600 | H30: =$L$29*B30 + (1-$L$29)*(C30+D30+1.5*(F30-D30)+$L$31*E30) -> #N/A | I30: =VLOOKUP($A30,FedFundsRates!$A$2:$MM$3000,MATCH("FedFundsRate",FedFundsRates!$A$2:$MM$2,0),FALSE) -> 2.4 | L30: Weight on resource gap: Standard choices are 0.5 and 1 | Q30: =FOMCTaylor93UR!Q30 -> 46249 | R30: =VLOOKUP(Q30,$G$2:$I$2470,2,FALSE) -> 4.7960406 | S30: =VLOOKUP(Q30,$G$2:$I$2470,3,FALSE) -> 3.67
A31: 22692 | B31: =VLOOKUP($A31,FedFundsRates!$A$2:$MM$3000,MATCH(B$2,FedFundsRates!$A$2:$MM$2,0),FALSE) -> 2.4 | C31: =VLOOKUP($A31,NaturalRateMeasures!$A$2:$MK$3000,MATCH(C$2,NaturalRateMeasures!$A$2:$MK$2,0),FALSE) -> #N/A | D31: =VLOOKUP($A31,InflationTargetMeasures!$A$2:$MM$3000,MATCH(D$2,InflationTargetMeasures!$A$2:$MM$2,0),FALSE) -> 2 | E31: =VLOOKUP($A31,GapMeasures!$A$2:$LA$3000,MATCH(E$2,GapMeasures!$A$2:$LA$2,0),FALSE) -> #N/A | F31: =VLOOKUP($A31,InflationMeasures!$A$2:$LN$3000,MATCH(F$2,InflationMeasures!$A$2:$LN$2,0),FALSE) -> 1.3836948 | G31: 22692 | H31: =$L$29*B31 + (1-$L$29)*(C31+D31+1.5*(F31-D31)+$L$31*E31) -> #N/A | I31: =VLOOKUP($A31,FedFundsRates!$A$2:$MM$3000,MATCH("FedFundsRate",FedFundsRates!$A$2:$MM$2,0),FALSE) -> 2.4566667 | L31: 1 | Q31: =FOMCTaylor93UR!Q31 -> 46341 | R31: =VLOOKUP(Q31,$G$2:$I$2470,2,FALSE) -> 5.0651129 | S31: =VLOOKUP(Q31,$G$2:$I$2470,3,FALSE) -> #N/A
